BEGIN:VCALENDAR
VERSION:2.0
PRODID:-//Visit Mena - ECPv6.15.20//NONSGML v1.0//EN
CALSCALE:GREGORIAN
METHOD:PUBLISH
X-ORIGINAL-URL:https://visitmena.com
X-WR-CALDESC:Events for Visit Mena
REFRESH-INTERVAL;VALUE=DURATION:PT1H
X-Robots-Tag:noindex
X-PUBLISHED-TTL:PT1H
BEGIN:VTIMEZONE
TZID:America/Chicago
BEGIN:DAYLIGHT
TZOFFSETFROM:-0600
TZOFFSETTO:-0500
TZNAME:CDT
DTSTART:20250309T080000
END:DAYLIGHT
BEGIN:STANDARD
TZOFFSETFROM:-0500
TZOFFSETTO:-0600
TZNAME:CST
DTSTART:20251102T070000
END:STANDARD
BEGIN:DAYLIGHT
TZOFFSETFROM:-0600
TZOFFSETTO:-0500
TZNAME:CDT
DTSTART:20260308T080000
END:DAYLIGHT
BEGIN:STANDARD
TZOFFSETFROM:-0500
TZOFFSETTO:-0600
TZNAME:CST
DTSTART:20261101T070000
END:STANDARD
BEGIN:DAYLIGHT
TZOFFSETFROM:-0600
TZOFFSETTO:-0500
TZNAME:CDT
DTSTART:20270314T080000
END:DAYLIGHT
BEGIN:STANDARD
TZOFFSETFROM:-0500
TZOFFSETTO:-0600
TZNAME:CST
DTSTART:20271107T070000
END:STANDARD
END:VTIMEZONE
BEGIN:VEVENT
DTSTART;TZID=America/Chicago:20260501T170000
DTEND;TZID=America/Chicago:20260501T200000
DTSTAMP:20260421T050536
CREATED:20260408T215256Z
LAST-MODIFIED:20260408T215401Z
UID:10000071-1777654800-1777665600@visitmena.com
SUMMARY:First Fridays Downtown Mena
DESCRIPTION:First Fridays in Downtown Mena\nJoin us in Downtown Mena for First Fridays — a fun\, family-friendly evening filled with live entertainment\, local vendors\, and community activities! \nHeld on the first Friday of the month\, this event brings together locals and visitors for a lively downtown experience featuring music\, food\, games\, and more. \n\nEvent Details\n\nDate: May 1st\nTime: 5:00 PM – 8:00 PM\nLocation: The Depot – 524 Sherwood Ave\, Mena\, AR\nAdmission: FREE\n\n\nWhat to Expect\n\n🎶 Live Music – Enjoy performances from local talent\n🎨 Chalk Art Contest – Watch creativity come to life on the streets\n🎯 Cornhole – Fun games for all ages\n💃 Street Dance – Bring your friends and hit the dance floor\n🎖️ CVET Veterans Appreciation Table – Honoring local veterans\n🍔 Food Vendors – Delicious food and drinks available\n🛍️ Local Vendors – Shop from area businesses and artisans – Download Vendor Application\n\n\nWhy You’ll Love It\nFirst Fridays is all about bringing the community together in a welcoming\, energetic atmosphere. Whether you’re enjoying live music\, grabbing a bite to eat\, or exploring downtown shops\, there’s something for everyone to enjoy. \nBring your family\, invite your friends\, and experience the charm of Downtown Mena! \n\nHosted by the Mena Advertising & Promotion Commission.
URL:https://visitmena.com/event/first-fridays-downtown-mena/
LOCATION:The Depot\, 524 Sherwood Ave\, Mena\, AR\, 71953\, United States
CATEGORIES:City Events
ATTACH;FMTTYPE=image/png:https://visitmena.com/wp-content/uploads/2026/04/First-Friday-4.png
ORGANIZER;CN="Mena Advertising & Promotion Commission":MAILTO:pasha@visitmena.com
END:VEVENT
END:VCALENDAR